BEGIN:VCALENDAR
VERSION:2.0
PRODID:-//Snappy SEO Tools - ECPv6.15.20//NONSGML v1.0//EN
CALSCALE:GREGORIAN
METHOD:PUBLISH
X-WR-CALNAME:Snappy SEO Tools
X-ORIGINAL-URL:https://snappyseotools.com
X-WR-CALDESC:Events for Snappy SEO Tools
REFRESH-INTERVAL;VALUE=DURATION:PT1H
X-Robots-Tag:noindex
X-PUBLISHED-TTL:PT1H
BEGIN:VTIMEZONE
TZID:America/Los_Angeles
BEGIN:DAYLIGHT
TZOFFSETFROM:-0800
TZOFFSETTO:-0700
TZNAME:PDT
DTSTART:20190310T100000
END:DAYLIGHT
BEGIN:STANDARD
TZOFFSETFROM:-0700
TZOFFSETTO:-0800
TZNAME:PST
DTSTART:20191103T090000
END:STANDARD
BEGIN:DAYLIGHT
TZOFFSETFROM:-0800
TZOFFSETTO:-0700
TZNAME:PDT
DTSTART:20200308T100000
END:DAYLIGHT
BEGIN:STANDARD
TZOFFSETFROM:-0700
TZOFFSETTO:-0800
TZNAME:PST
DTSTART:20201101T090000
END:STANDARD
BEGIN:DAYLIGHT
TZOFFSETFROM:-0800
TZOFFSETTO:-0700
TZNAME:PDT
DTSTART:20210314T100000
END:DAYLIGHT
BEGIN:STANDARD
TZOFFSETFROM:-0700
TZOFFSETTO:-0800
TZNAME:PST
DTSTART:20211107T090000
END:STANDARD
END:VTIMEZONE
BEGIN:VEVENT
DTSTART;VALUE=DATE:20200310
DTEND;VALUE=DATE:20200313
DTSTAMP:20260420T204418
CREATED:20191210T071338Z
LAST-MODIFIED:20191210T071338Z
UID:877-1583798400-1584057599@snappyseotools.com
SUMMARY:SaaStr Annual
DESCRIPTION:SaaStr Annual Empowers You to Scale Up\, Grow Faster & Emerge the Next Unicorn. Hear from the best in SAAS. 300+ handcrafted sessions to help you scale. No fluff. No commercials. No boring panels.
URL:https://snappyseotools.com/event/saastr-annual/
LOCATION:San Jose Convention Center\, 150 W San Carlos St\,\, San Jose\, CA\, 95113\, United States
CATEGORIES:B2B SaaS
ATTACH;FMTTYPE=image/png:https://snappyseotools.com/wp-content/uploads/2019/12/SA2020-Logo-date-location.png
ORGANIZER;CN="SaaStr":MAILTO:info@saastrinc.com
END:VEVENT
END:VCALENDAR