BEGIN:VCALENDAR
VERSION:2.0
PRODID:-//Snappy SEO Tools - ECPv6.15.20//NONSGML v1.0//EN
CALSCALE:GREGORIAN
METHOD:PUBLISH
X-ORIGINAL-URL:https://snappyseotools.com
X-WR-CALDESC:Events for Snappy SEO Tools
REFRESH-INTERVAL;VALUE=DURATION:PT1H
X-Robots-Tag:noindex
X-PUBLISHED-TTL:PT1H
BEGIN:VTIMEZONE
TZID:America/Los_Angeles
BEGIN:DAYLIGHT
TZOFFSETFROM:-0800
TZOFFSETTO:-0700
TZNAME:PDT
DTSTART:20190310T100000
END:DAYLIGHT
BEGIN:STANDARD
TZOFFSETFROM:-0700
TZOFFSETTO:-0800
TZNAME:PST
DTSTART:20191103T090000
END:STANDARD
BEGIN:DAYLIGHT
TZOFFSETFROM:-0800
TZOFFSETTO:-0700
TZNAME:PDT
DTSTART:20200308T100000
END:DAYLIGHT
BEGIN:STANDARD
TZOFFSETFROM:-0700
TZOFFSETTO:-0800
TZNAME:PST
DTSTART:20201101T090000
END:STANDARD
BEGIN:DAYLIGHT
TZOFFSETFROM:-0800
TZOFFSETTO:-0700
TZNAME:PDT
DTSTART:20210314T100000
END:DAYLIGHT
BEGIN:STANDARD
TZOFFSETFROM:-0700
TZOFFSETTO:-0800
TZNAME:PST
DTSTART:20211107T090000
END:STANDARD
END:VTIMEZONE
BEGIN:VEVENT
DTSTART;VALUE=DATE:20200924
DTEND;VALUE=DATE:20200927
DTSTAMP:20260420T113722
CREATED:20191214T061728Z
LAST-MODIFIED:20191214T061728Z
UID:1903-1600905600-1601164799@snappyseotools.com
SUMMARY:Independent Podcast Conference
DESCRIPTION:ICON originally started out as Mid-Atlantic Podcast started (December 2014) as a Facebook group for podcasters who live in the Mid-Atlantic States (North Carolina\, Virginia\, Delaware\, Pennsylvania\, New Jersey\, New York\, Maryland\, and Connecticut). The idea was to bring podcasters together for meet ups\, Google Hangouts and eventually grow into conferences. After seeing the interest to have a podcast (exclusive) conference in the northeast\, Joe Pardo jumped on the opportunity to make it happen.
URL:https://snappyseotools.com/event/independent-podcast-conference/
LOCATION:Holiday Inn Philadelphia South-Swedesboro\, 1 Pureland Dr. Swedesboro\,\, NJ\, 08085\, United States
CATEGORIES:Podcasting
ATTACH;FMTTYPE=image/png:https://snappyseotools.com/wp-content/uploads/2019/12/IPC-Logo_Clear_small.png
ORGANIZER;CN="Independent Podcast Conference":MAILTO:joe@indiepodcon.com
END:VEVENT
BEGIN:VEVENT
DTSTART;VALUE=DATE:20200805
DTEND;VALUE=DATE:20200809
DTSTAMP:20260420T113722
CREATED:20191209T065124Z
LAST-MODIFIED:20200102T105638Z
UID:526-1596585600-1596931199@snappyseotools.com
SUMMARY:Podcast Movement Texas
DESCRIPTION:Join over 3\,000 podcasters from around the world for over 200 educational sessions\, the 100+ exhibitor trade show\, and the best parties and networking opportunities in podcasting. Featuring breakout sessions and panels spread across seven topic-focused tracks\, Podcast Movement 2020 will once again be the world’s largest gathering of podcasters\, and those involved in the podcast industry.
URL:https://snappyseotools.com/event/podcast-movement-texas/
LOCATION:Hilton Anatole Hotel\, 2201 N Stemmons Fwy\,\, Dallas\, TX\, 75207\, United States
CATEGORIES:Podcasting
ATTACH;FMTTYPE=image/png:https://snappyseotools.com/wp-content/uploads/2019/12/VYqfcVbQ_608590.png
ORGANIZER;CN="Podcast Movment":MAILTO:support@podcastmovement.com
END:VEVENT
BEGIN:VEVENT
DTSTART;VALUE=DATE:20200306
DTEND;VALUE=DATE:20200309
DTSTAMP:20260420T113722
CREATED:20191209T110913Z
LAST-MODIFIED:20191216T040427Z
UID:628-1583452800-1583711999@snappyseotools.com
SUMMARY:Podfest 2020
DESCRIPTION:PODFEST2020 is your conference! Whether you’re new to podcasting or a veteran podcaster looking to innovate and improve your podcast\, our easy-to-understand Conference Tracks allow you to customize a daily agenda based on what you’re most interested in learning. No matter your skill level or experience\, PODFEST has plenty to offer!
URL:https://snappyseotools.com/event/podfest-2020/
LOCATION:Orlando World Center Marriot\, 8701 World Center Dr\,\, Orlando\, FL\, 32821\, United States
CATEGORIES:Podcasting
ATTACH;FMTTYPE=image/png:https://snappyseotools.com/wp-content/uploads/2019/12/PODFEST-newlogo-S72CLR.png
ORGANIZER;CN="Podfest Expo":MAILTO:support@podfestexpo.com
END:VEVENT
END:VCALENDAR