BEGIN:VCALENDAR
VERSION:2.0
PRODID:-//Snappy SEO Tools - ECPv6.15.20//NONSGML v1.0//EN
CALSCALE:GREGORIAN
METHOD:PUBLISH
X-ORIGINAL-URL:https://snappyseotools.com
X-WR-CALDESC:Events for Snappy SEO Tools
REFRESH-INTERVAL;VALUE=DURATION:PT1H
X-Robots-Tag:noindex
X-PUBLISHED-TTL:PT1H
BEGIN:VTIMEZONE
TZID:America/Los_Angeles
BEGIN:DAYLIGHT
TZOFFSETFROM:-0800
TZOFFSETTO:-0700
TZNAME:PDT
DTSTART:20190310T100000
END:DAYLIGHT
BEGIN:STANDARD
TZOFFSETFROM:-0700
TZOFFSETTO:-0800
TZNAME:PST
DTSTART:20191103T090000
END:STANDARD
BEGIN:DAYLIGHT
TZOFFSETFROM:-0800
TZOFFSETTO:-0700
TZNAME:PDT
DTSTART:20200308T100000
END:DAYLIGHT
BEGIN:STANDARD
TZOFFSETFROM:-0700
TZOFFSETTO:-0800
TZNAME:PST
DTSTART:20201101T090000
END:STANDARD
BEGIN:DAYLIGHT
TZOFFSETFROM:-0800
TZOFFSETTO:-0700
TZNAME:PDT
DTSTART:20210314T100000
END:DAYLIGHT
BEGIN:STANDARD
TZOFFSETFROM:-0700
TZOFFSETTO:-0800
TZNAME:PST
DTSTART:20211107T090000
END:STANDARD
END:VTIMEZONE
BEGIN:VEVENT
DTSTART;VALUE=DATE:20200706
DTEND;VALUE=DATE:20200709
DTSTAMP:20260420T152020
CREATED:20191212T211641Z
LAST-MODIFIED:20200102T104038Z
UID:1706-1593993600-1594252799@snappyseotools.com
SUMMARY:Moz Con
DESCRIPTION:Join us at MozCon for a three-day\, one-track journey into the deepest realms of search marketing. Connect with an incredible community of experts and uncover tactical advice from industry-leading practitioners in the vast world of SEO\, mobile\, conversion optimization\, local search\, and more. Plus: free swag\, fist bumps\, and Roger hugs don’t hurt either.
URL:https://snappyseotools.com/event/moz-con/
LOCATION:The Washington State Convention Center\, 705 Pike Street\,\, Seattle\,\, WA\, 98101\, United States
CATEGORIES:SEM
ATTACH;FMTTYPE=image/png:https://snappyseotools.com/wp-content/uploads/2019/12/Moz-Con.png
ORGANIZER;CN="MOZ":MAILTO:mozcon@moz.com
END:VEVENT
BEGIN:VEVENT
DTSTART;VALUE=DATE:20200318
DTEND;VALUE=DATE:20200320
DTSTAMP:20260420T152020
CREATED:20191210T092241Z
LAST-MODIFIED:20191216T082117Z
UID:903-1584489600-1584662399@snappyseotools.com
SUMMARY:SMX Munich
DESCRIPTION:SMX is the only conference series entirely devoted to search marketing and how search fits into the marketing mix. The producers of SMX are not an agency or tool provider but a neutral editorial team. You will find no generic marketing blah but cutting edge tactics and strategies from top experts from all over the world. Attend SMX Munich for a deep dive into SEO and SEM tactics that tackle the search marketing challenges you’re confronting and inspire you with new ideas.
URL:https://snappyseotools.com/event/smx-munich/
LOCATION:International Congress Center Munich\, Messe München GmbH\,\, Messegelände\, München\, 81823\, Germany
CATEGORIES:SEM
ATTACH;FMTTYPE=image/jpeg:https://snappyseotools.com/wp-content/uploads/2019/12/SMX-Munich.jpg
ORGANIZER;CN="Rising Media Ltd":MAILTO:info@risingmedia.com
END:VEVENT
BEGIN:VEVENT
DTSTART;VALUE=DATE:20200219
DTEND;VALUE=DATE:20200221
DTSTAMP:20260420T152020
CREATED:20191207T020626Z
LAST-MODIFIED:20191216T025107Z
UID:216-1582070400-1582243199@snappyseotools.com
SUMMARY:SMX West
DESCRIPTION:Smart marketers know that the only constant in our industry is change. To stay ahead of the competition\, you have to keep exploring\, networking\, and training with experts who know their stuff. Attend Search Marketing Expo – SMX West – for a redesigned and reorganized agenda featuring three lanes with no limits: You’ll get double the amount of tactic-rich SEO and SEM sessions SMX is known for\, together with brand new programming on digital commerce marketing.
URL:https://snappyseotools.com/event/smx-west/
LOCATION:San Jose McEnery Convention Center\, 150 West San Carlos St.\, San Jose\, CA\, 95110\, United States
CATEGORIES:SEM
ATTACH;FMTTYPE=image/png:https://snappyseotools.com/wp-content/uploads/2019/12/SMX.png
ORGANIZER;CN="SMX":MAILTO:registration@searchmarketingexpo.com
END:VEVENT
END:VCALENDAR