BEGIN:VCALENDAR
VERSION:2.0
PRODID:-//Snappy SEO Tools - ECPv6.15.20//NONSGML v1.0//EN
CALSCALE:GREGORIAN
METHOD:PUBLISH
X-ORIGINAL-URL:https://snappyseotools.com
X-WR-CALDESC:Events for Snappy SEO Tools
REFRESH-INTERVAL;VALUE=DURATION:PT1H
X-Robots-Tag:noindex
X-PUBLISHED-TTL:PT1H
BEGIN:VTIMEZONE
TZID:America/Los_Angeles
BEGIN:DAYLIGHT
TZOFFSETFROM:-0800
TZOFFSETTO:-0700
TZNAME:PDT
DTSTART:20190310T100000
END:DAYLIGHT
BEGIN:STANDARD
TZOFFSETFROM:-0700
TZOFFSETTO:-0800
TZNAME:PST
DTSTART:20191103T090000
END:STANDARD
BEGIN:DAYLIGHT
TZOFFSETFROM:-0800
TZOFFSETTO:-0700
TZNAME:PDT
DTSTART:20200308T100000
END:DAYLIGHT
BEGIN:STANDARD
TZOFFSETFROM:-0700
TZOFFSETTO:-0800
TZNAME:PST
DTSTART:20201101T090000
END:STANDARD
BEGIN:DAYLIGHT
TZOFFSETFROM:-0800
TZOFFSETTO:-0700
TZNAME:PDT
DTSTART:20210314T100000
END:DAYLIGHT
BEGIN:STANDARD
TZOFFSETFROM:-0700
TZOFFSETTO:-0800
TZNAME:PST
DTSTART:20211107T090000
END:STANDARD
END:VTIMEZONE
BEGIN:VEVENT
DTSTART;VALUE=DATE:20200804
DTEND;VALUE=DATE:20200806
DTSTAMP:20260420T110510
CREATED:20191212T215612Z
LAST-MODIFIED:20191212T215656Z
UID:1766-1596499200-1596671999@snappyseotools.com
SUMMARY:Turing Fest 2020
DESCRIPTION:Turing Fest returns to Edinburgh in 2020. Join the best minds in European tech in Scotland’s iconic capital to forge new connections and gain deep insight into how to build and scale remarkable technology products and businesses.
URL:https://snappyseotools.com/event/turing-fest-2020/
LOCATION:Edinburgh International Conference Centre\, The Exchange\, 150 Morrison St\,\, Edinburgh\, EH3 8EE\, United Kingdom
CATEGORIES:Technology
ATTACH;FMTTYPE=image/png:https://snappyseotools.com/wp-content/uploads/2019/12/Primary-Logo-500w.png
ORGANIZER;CN="Turing Festival":MAILTO:events@turingfest.com
END:VEVENT
BEGIN:VEVENT
DTSTART;VALUE=DATE:20200504
DTEND;VALUE=DATE:20200508
DTSTAMP:20260420T110510
CREATED:20191212T021529Z
LAST-MODIFIED:20200102T040051Z
UID:1301-1588550400-1588895999@snappyseotools.com
SUMMARY:THINK
DESCRIPTION:Acquire hands-on experience with the latest advancements in open technologies from hybrid multicloud to data and AI – then meet the luminaries who are using them to transform our lives. Think isn’t a single conference for thousands of people. It’s thousands of curated conferences in one.
URL:https://snappyseotools.com/event/think/
LOCATION:Moscone Center\, 747 Howard St\,\, San Francisco\, CA\, 94103\, United States
CATEGORIES:Marketing,Technology
ATTACH;FMTTYPE=image/png:https://snappyseotools.com/wp-content/uploads/2019/12/THINK.png
END:VEVENT
BEGIN:VEVENT
DTSTART;VALUE=DATE:20200210
DTEND;VALUE=DATE:20200212
DTSTAMP:20260420T110510
CREATED:20191206T203931Z
LAST-MODIFIED:20191216T022123Z
UID:192-1581292800-1581465599@snappyseotools.com
SUMMARY:Agents of Change Summit
DESCRIPTION:The Agents of Change Summit returns on February 10 & 11\, 2020 with new research\, case studies\, technologies\, and insights to help Public Health Professionals change health behaviors in their communities. Designed specifically for those who challenge the status quo\, #AOCS20 will equip over 700 practitioners with the latest evidence-based strategies and technological tools that can help inspire health behavior change in communities large and small
URL:https://snappyseotools.com/event/agents-of-change-summit/
LOCATION:Sheraton San Diego Hotel & Marina\, 1380 Harbor Island Dr\, San Diego\,\, CA\, 92101\, United States
CATEGORIES:Technology
ATTACH;FMTTYPE=image/png:https://snappyseotools.com/wp-content/uploads/2019/12/Agents-of-Change-Summit.png
ORGANIZER;CN="Agents of Change Summit":MAILTO:Info@AgentsOfChangeSummit.org
END:VEVENT
BEGIN:VEVENT
DTSTART;TZID=America/Los_Angeles:20200129T100000
DTEND;TZID=America/Los_Angeles:20200201T160000
DTSTAMP:20260420T110510
CREATED:20191207T052629Z
LAST-MODIFIED:20191215T053653Z
UID:261-1580292000-1580572800@snappyseotools.com
SUMMARY:NamesCon Global
DESCRIPTION:#1 Domain Conference in the World. NamesCon strives to bring you rich and actionable insights into the complex domain market\, so you can find and act upon new opportunities. NamesCon Global is our flagship event\, bringing together the people who build and grow the domain-name industry. This is the place to build the strong relationships and strategic partnerships that drive this person-to-person business.
URL:https://snappyseotools.com/event/namescon-global/
LOCATION:Omni Hotel Downtown\, 700 San Jacinto at\, E 8th St\,\, Austin\, TX\, 78701\, United States
CATEGORIES:Technology
ATTACH;FMTTYPE=image/jpeg:https://snappyseotools.com/wp-content/uploads/2019/12/ncglobal2020eventbrite.jpg
ORGANIZER;CN="NamesCon Global":MAILTO:producers@namescon.com
END:VEVENT
BEGIN:VEVENT
DTSTART;VALUE=DATE:20200107
DTEND;VALUE=DATE:20200111
DTSTAMP:20260420T110510
CREATED:20191206T052021Z
LAST-MODIFIED:20191215T023743Z
UID:88-1578355200-1578700799@snappyseotools.com
SUMMARY:CES
DESCRIPTION:The global stage for innovation. CES is the world’s gathering place for all those who thrive on the business of consumer technologies. It has served as the proving ground for innovators and breakthrough technologies for 50 years — the global stage where next-generation innovations are introduced to the marketplace.
URL:https://snappyseotools.com/event/ces/
LOCATION:Las Vegas Convention Center\, 3150 Paradise Rd\, Las Vegas\, NV\, 89109\, United States
CATEGORIES:Technology
ATTACH;FMTTYPE=image/jpeg:https://snappyseotools.com/wp-content/uploads/2019/12/ces-logo.jpg
ORGANIZER;CN="CES":MAILTO:CESreg@CTA.tech
END:VEVENT
END:VCALENDAR